BEGIN:VCALENDAR
VERSION:2.0
PRODID:-//Suomen Korroosioyhdistys - ECPv6.15.12.1//NONSGML v1.0//EN
CALSCALE:GREGORIAN
METHOD:PUBLISH
X-WR-CALNAME:Suomen Korroosioyhdistys
X-ORIGINAL-URL:https://www.korroosioyhdistys.fi
X-WR-CALDESC:Tapahtumat Suomen Korroosioyhdistys
REFRESH-INTERVAL;VALUE=DURATION:PT1H
X-Robots-Tag:noindex
X-PUBLISHED-TTL:PT1H
BEGIN:VTIMEZONE
TZID:Europe/Helsinki
BEGIN:DAYLIGHT
TZOFFSETFROM:+0200
TZOFFSETTO:+0300
TZNAME:EEST
DTSTART:20230326T010000
END:DAYLIGHT
BEGIN:STANDARD
TZOFFSETFROM:+0300
TZOFFSETTO:+0200
TZNAME:EET
DTSTART:20231029T010000
END:STANDARD
BEGIN:DAYLIGHT
TZOFFSETFROM:+0200
TZOFFSETTO:+0300
TZNAME:EEST
DTSTART:20240331T010000
END:DAYLIGHT
BEGIN:STANDARD
TZOFFSETFROM:+0300
TZOFFSETTO:+0200
TZNAME:EET
DTSTART:20241027T010000
END:STANDARD
BEGIN:DAYLIGHT
TZOFFSETFROM:+0200
TZOFFSETTO:+0300
TZNAME:EEST
DTSTART:20250330T010000
END:DAYLIGHT
BEGIN:STANDARD
TZOFFSETFROM:+0300
TZOFFSETTO:+0200
TZNAME:EET
DTSTART:20251026T010000
END:STANDARD
END:VTIMEZONE
BEGIN:VEVENT
DTSTART;VALUE=DATE:20240108
DTEND;VALUE=DATE:20240529
DTSTAMP:20260419T213007
CREATED:20231016T175007Z
LAST-MODIFIED:20240527T102334Z
UID:1453-1704672000-1716940799@www.korroosioyhdistys.fi
SUMMARY:Mentorointiohjelma materiaalitekniikan ja 3D- tulostuksen opiskelijoille ja ammattilaisille
DESCRIPTION:Mentorointiohjelma materiaalitekniikan ja 3D- tulostuksen opiskelijoille ja ammattilaisille  \nAika: Tammikuusta 2024 alkaen sisältäen yhteisen aloitustapahtuman ja 3-5 mentorointisessiota  \nToukokuussa 2024 yhteinen päätöstapahtuma  \nPaikka: Mentorointitapaamiset tullaan järjestämään joko etäyhteyksin tai kasvotusten osallistujien toiveiden ja tilanteiden mukaan. Aloitus- ja päätöstapahtumat on tarkoitus järjestää pääkaupunkiseudulla\, mutta myös etäosallistuminen on mahdollista.  \nKohderyhmä: Ohjelma on suunnattu materiaali- ja valmistustekniikan opiskelijoille ja ammattilaisille. Osallistujien tulee olla ASM Finland ry:n tai opiskelijoille suunnatun Material Advantage -ohjelman ja/tai Suomen Korroosioyhdistys SKY:n jäseniä ja/tai FIRPA:n jäseniä. \n\n\n\nASM Finland ry\, Suomen Korroosioyhdistys SKY ja FIRPA järjestävät yhteistyönä mentorointiohjelman\, joka on suunnattu materiaali- ja valmistustekniikan opiskelijoille ja ammattilaisille. Mentorointiohjelma on ilmainen ASM:n\, SKY:n ja FIRPA:n jäsenille eli mukaan pääset liittymällä jäseneksi johonkin näistä yhdistyksistä.  \nMentorointiohjelman tarkoituksena on luoda yhteyksiä urallaan eri vaiheissa olevien osaajien välillä\, mahdollistaen näin mentoroitavan omien kykyjen kehittymisen\, vahvuusalueiden hahmottamisen ja verkostoitumisen muiden osaajien kanssa. Mentorointi on prosessi\, jossa kokeneempi mentori auttaa mentoroitavaa eli aktoria oppimaan lisää ja kehittymään ammatillisesti jakamalla omaa osaamistaan.  \nOsallistujan niin toivoessa\, tapaamiset voidaan järjestää myös ns. vertaismentorointina urallaan samassa vaiheessa olevien kesken\, tällöin ohjelma tarjoaa mahdollisuuden päästä pohtimaan uravaiheessa tai tilanteessa ajankohtaisia teemoja toisen materiaalitekniikan osaajan kanssa. Vertaismentoroinnissa henkilöt toimivat vuorotellen mentorin ja aktorin rooleissa.  \nMentorointi tapahtuu kahdenvälisissä luottamuksellisissa keskusteluissa\, jotka perustuvat sitoutumiseen ja avoimuuteen. Ensimmäisessä tapaamisessa mentori ja aktori tai vertaismentorit allekirjoittavat kahdenkeskisen sopimuksen\, jossa prosessin parametrit ja kesto määritetään. Nämä mentoroinnille asetettavat tavoitteet määräytyvät aktorin kiinnostuksen kohteiden ja toiveiden mukaan. Sekä mentorin että aktorin toiveita kysytään jo ilmoittautumisessa ja ne otetaan huomioon pareja muodostettaessa. Tavoitteena on\, että mentori ja aktori käyvät kevään aikana vähintään neljä keskustelua aktorin toivomista aiheista. Pari sopii keskustelujen ajankohdat ja toteutustavat keskenään. Keskusteluun suositellaan varattavaksi ainakin tunti tai puolitoista. Hyvä käytäntö on\,  \n\n\n\n\n\n\nettä käsiteltävistä aiheista sovitaan jo etukäteen\, jotta sekä mentori että aktori voivat valmistautua keskusteluun.  \nIlmoittautuminen: Mentorointiohjelmaan haku on mahdollista keskiviikkoon 15.11.2023 asti sähköpostitse osoitteeseen asm.finland(at)asmfinland.fi. Ilmoittautumalla hyväksyt\, että tietojasi tullaan käyttämään ASM Finlandin tietosuoja-asetuksen mukaisesti (https://www.asmfinland.fi/gdpr.html) mentorointiprosessin aikana.  \nPaikka mentorointiohjelmassa pyritään tarjoamaan mahdollisimman monelle. Järjestäjä kuitenkin pidättää oikeuden rajata paikkoja\, mikäli sopivien mentorointiparien löytyminen niin vaatii. Valinnat tehdään joulukuun alussa ja ohjelmaan valittuihin ollaan yhteydessä 15.12.2023 mennessä.  \nLiitäthän hakemukseesi CV:si pdf:nä. Lisäksi vastaathan seuraaviin kysymyksiin:  \n\nMikä sai sinut kiinnostumaan tästä mentorointiohjelmasta? \nOletko kiinnostunut mentorin vai aktorin roolista vai vertaismentoroinnista? \nMitkä ovat odotuksesi mentorointiohjelmalle? \nMitkä ovat odotuksesi mentorointiparillesi? \nMitkä ovat ammatilliset vahvuutesi? \nKuvaile itseäsi\, millainen ihminen olet ja mitä harrastat vapaa-ajalla? \nJos ilmoittauduit mentoriksi\, toivotko erillistä infotilaisuutta mentoreille? \n\nVastaukset tullaan toimittamaan myös mentorointiparillesi ja parien muodostamisen jälkeen osallistujien jäsenyys\, ASM Finland ry/Material Advantage\, Korroosioyhdistys ja/tai FIRPA tullaan tarkastamaan.
URL:https://www.korroosioyhdistys.fi/event/mentorointiohjelma-materiaalitekniikan-ja-3d-tulostuksen-opiskelijoille-ja-ammattilaisille/
END:VEVENT
BEGIN:VEVENT
DTSTART;TZID=Europe/Helsinki:20240507T150000
DTEND;TZID=Europe/Helsinki:20240507T160000
DTSTAMP:20260419T213007
CREATED:20240412T071852Z
LAST-MODIFIED:20240417T113749Z
UID:1504-1715094000-1715097600@www.korroosioyhdistys.fi
SUMMARY:CorroZoom webinar Stress Corrosion Cracking of Stainless Steels and Nickel Base Alloys
DESCRIPTION:Stress Corrosion Cracking of Stainless Steels and Nickel Base Alloys \nEn-Hou Han \nInstitute of Corrosion Science and Technology (ICoST) \nSouth China University of Technology (SCUT) \nGuangzhou\, China \nAbstract \nStress corrosion cracking (SCC) of different materials happens in various industries. Although SCC has long history and researchers have revealed considerable understanding\, the mechanisms are not clear and accurate prediction of SCC is still not possible. Many factors affect SCC\, including but not limited to alloy composition and microstructure\, environment\, and load (stress\, strain and strain rate). This lecture will mainly discuss SCC crack initiation and propagation for Fe-Cr-Ni alloys\, both stainless stainless steels and nickel-base alloys\, and will especially focus on the effects of local parameters (local material\, local chemical & electrochemical and local mechanical conditions). The electrochemical corrosion behavior and the chemical composition\, microstructure and electronic characters of oxide films for stainless steels and Ni base alloys used in nuclear power plants will be reviewed. The effects of water chemistry and material microstructure on oxide films were analyzed in order to relate oxide film properties to electrochemical behavior. The effect of the surface after surface finishing\, grinding\, machining or scratching on corrosion and SCC initiation in simulated primary water of nuclear power plants will be discussed because the different manufacturing techniques can cause the formation of microstructures of different gradients near the surface and also cause large differences in surface deformation. SCC propagation in various conditions will be presented as will an SCC prediction model that has bee applied to real nuclear power industry components. Finally\, future research trends on the topic will be proposed. \nBiography \nDr. En-Hou Han is a full professor of South China University of Technology (SCUT)\, President of Institute of Corrosion Science and Technology (ICoST). He received his Ph.D. from Northeastern University in Shenyang\, China in 1990. From 1995-1998 he was a research scientist at Massachusetts Institute of Technology (MIT) and was a professor at the Institute of Materials Research in Shenyang from 1998-2023. Prof. Han’s research interests include (1) Localized corrosion mechanism understanding and characterization\, especially the interaction of mechanical and chemical effects\, such as corrosion fatigue\, stress corrosion cracking and hydrogen embrittlement for various materials in harsh environments; (2) Corrosion prevention techniques such as nanocomposite coatings\, plating\, inhibitors & cathodic protection; (3) Service lifetime prediction and failure analysis for engineering structure and components by big data modelling\, digital twins & artificial intelligence (AI); (4) R & D of corrosion resistant alloys (including HEAs) in severe industry environment including new energy industries\, energy storage and sea water. He received many awards and honors and has leadership roles in the corrosion and materials communities. \nMore information and registration here.
URL:https://www.korroosioyhdistys.fi/event/corrozoom-webinar-stress-corrosion-cracking-of-stainless-steels-and-nickel-base-alloys/
END:VEVENT
END:VCALENDAR