BEGIN:VCALENDAR
VERSION:2.0
PRODID:-//Suomen Korroosioyhdistys - ECPv6.15.12.1//NONSGML v1.0//EN
CALSCALE:GREGORIAN
METHOD:PUBLISH
X-ORIGINAL-URL:https://www.korroosioyhdistys.fi
X-WR-CALDESC:Tapahtumat Suomen Korroosioyhdistys
REFRESH-INTERVAL;VALUE=DURATION:PT1H
X-Robots-Tag:noindex
X-PUBLISHED-TTL:PT1H
BEGIN:VTIMEZONE
TZID:Europe/Helsinki
BEGIN:DAYLIGHT
TZOFFSETFROM:+0200
TZOFFSETTO:+0300
TZNAME:EEST
DTSTART:20220327T010000
END:DAYLIGHT
BEGIN:STANDARD
TZOFFSETFROM:+0300
TZOFFSETTO:+0200
TZNAME:EET
DTSTART:20221030T010000
END:STANDARD
BEGIN:DAYLIGHT
TZOFFSETFROM:+0200
TZOFFSETTO:+0300
TZNAME:EEST
DTSTART:20230326T010000
END:DAYLIGHT
BEGIN:STANDARD
TZOFFSETFROM:+0300
TZOFFSETTO:+0200
TZNAME:EET
DTSTART:20231029T010000
END:STANDARD
BEGIN:DAYLIGHT
TZOFFSETFROM:+0200
TZOFFSETTO:+0300
TZNAME:EEST
DTSTART:20240331T010000
END:DAYLIGHT
BEGIN:STANDARD
TZOFFSETFROM:+0300
TZOFFSETTO:+0200
TZNAME:EET
DTSTART:20241027T010000
END:STANDARD
END:VTIMEZONE
BEGIN:VEVENT
DTSTART;TZID=Europe/Helsinki:20231023T160000
DTEND;TZID=Europe/Helsinki:20231023T170000
DTSTAMP:20260422T023135
CREATED:20230926T182113Z
LAST-MODIFIED:20230926T182113Z
UID:1440-1698076800-1698080400@www.korroosioyhdistys.fi
SUMMARY:SKY Member evening: Data-driven design in process industry
DESCRIPTION:Two short presentations and free discussion on the subject. \nThe link will be sent to SKY members by e-mail. \nMachine learning for predicting alkali salt-induced high-temperature corrosion of superheater materials (by Rasmus Fagerlund) \n\nShort introduction on high-temperature corrosion in black liquor recovery boilers and Åbo Akademi corrosion test method\nData analysis\nModeling of data using machine learning methods\nModel performance and conclusions\n\nModeling of steam usage at a power plant site (by Jere Espo) \n\nTrials to manage different operational situations with a mathematical model based on process data\nCorrect timing of required operator manual work\nGeneration of more valid process measurement alarms\n\n  \nRasmus Fagerlund \n\nDoctoral student at Åbo Akademi University\nCurrently working on modeling of NOx formation for computational fluid dynamics (CFD) models of black liquor recovery boilers (supervisor Docent Markus Engblom)\nBackground in chemical engineering\nInterested in AI applications\, mathematical modeling and optimization\n\n  \nJere Espo \nProcess Engineer \n\nTeam leader of Vantaa Energy Chemistry Team operating at three sites\nBackground in analytical chemistry\n\nRoughly 25 years of experience in power plant chemistry including topics like: \n\nFuel analysis\nFlue gas cleaning\nWater chemistry\nChemical safety\nTeam leading tasks
URL:https://www.korroosioyhdistys.fi/event/sky-member-evening-data-driven-design-in-process-industry/
LOCATION:Teams
END:VEVENT
END:VCALENDAR