BEGIN:VCALENDAR
VERSION:2.0
PRODID:-//Suomen Korroosioyhdistys - ECPv6.15.12.1//NONSGML v1.0//EN
CALSCALE:GREGORIAN
METHOD:PUBLISH
X-WR-CALNAME:Suomen Korroosioyhdistys
X-ORIGINAL-URL:https://www.korroosioyhdistys.fi
X-WR-CALDESC:Tapahtumat Suomen Korroosioyhdistys
REFRESH-INTERVAL;VALUE=DURATION:PT1H
X-Robots-Tag:noindex
X-PUBLISHED-TTL:PT1H
BEGIN:VTIMEZONE
TZID:Europe/Helsinki
BEGIN:DAYLIGHT
TZOFFSETFROM:+0200
TZOFFSETTO:+0300
TZNAME:EEST
DTSTART:20220327T010000
END:DAYLIGHT
BEGIN:STANDARD
TZOFFSETFROM:+0300
TZOFFSETTO:+0200
TZNAME:EET
DTSTART:20221030T010000
END:STANDARD
BEGIN:DAYLIGHT
TZOFFSETFROM:+0200
TZOFFSETTO:+0300
TZNAME:EEST
DTSTART:20230326T010000
END:DAYLIGHT
BEGIN:STANDARD
TZOFFSETFROM:+0300
TZOFFSETTO:+0200
TZNAME:EET
DTSTART:20231029T010000
END:STANDARD
BEGIN:DAYLIGHT
TZOFFSETFROM:+0200
TZOFFSETTO:+0300
TZNAME:EEST
DTSTART:20240331T010000
END:DAYLIGHT
BEGIN:STANDARD
TZOFFSETFROM:+0300
TZOFFSETTO:+0200
TZNAME:EET
DTSTART:20241027T010000
END:STANDARD
END:VTIMEZONE
BEGIN:VEVENT
DTSTART;TZID=Europe/Helsinki:20230201T160000
DTEND;TZID=Europe/Helsinki:20230201T170000
DTSTAMP:20260422T150029
CREATED:20230119T140011Z
LAST-MODIFIED:20230119T140011Z
UID:1362-1675267200-1675270800@www.korroosioyhdistys.fi
SUMMARY:Jäsenilta Korroosiomonitorointi ja uudet innovaatiot 1.2.2023 klo 16-17
DESCRIPTION:Suomen korroosioyhdistys järjestää jäsenillan teamsissa keskiviikkona 1.2.2023 klo 16-17. Aiheena on ”Korroosiomonitorointi ja uudet innovaatiot”\, josta meille kertoo Kari Kärkkäinen Coresto Oy:stä. Webinaarin alustuksessa Kari esittelee erilaisia korroosiomonitoroinnin sovelluksia ja näyttää esimerkkejä\, loppuaika webinaarista on varattu keskustelulle. \nKatso tarkemmat tiedot täältä!
URL:https://www.korroosioyhdistys.fi/event/jasenilta-korroosiomonitorointi-ja-uudet-innovaatiot-1-2-2023-klo-16-17/
END:VEVENT
BEGIN:VEVENT
DTSTART;TZID=Europe/Helsinki:20230215T090000
DTEND;TZID=Europe/Helsinki:20230215T150000
DTSTAMP:20260422T150029
CREATED:20230119T140152Z
LAST-MODIFIED:20230119T140152Z
UID:1359-1676451600-1676473200@www.korroosioyhdistys.fi
SUMMARY:TRY Seminaari: Teräsrakenteiden pinnoitteiden elinkaari ja kiertotalous
DESCRIPTION:TRY:n Pintakäsittelyn asiantuntijaryhmä järjestää seminaarin ajankohtaisista pintakäsittelyalan kiertotalous- ja elinkaariasioista. Tilaisuus on maksuton. Tervetuloa! \nIlmoittautumiset viimeistään 8.2.2023 tapahtuman sivulla olevan linkin kautta. \nSeminaarin ohjelma: \n9:00-9:05        Tilaisuuden avaus\, TRY \n9:05-9:35       Fossiilivapaa terästuotanto (Erkki Krankkala\, SSAB Europe Oy) \n9:35-10:15     Kuumasinkityksen kiertotalous (Jorma Panula\, Boliden Kokkola Oy) \n10:15-10:45   kahvitauko \n10:45-11:25   Maalien elinkaariasiat ja maalattujen terästuotteiden uudelleenkäyttö (Harry Kouri\, Teknos Oy) \n11:25-12:05    Uudet vesiohenteiset maalausjärjestelmät (Tomi Kontunen\, Summa ry) \n12:05-12:50   lounastauko \n12:50-13:20   Maalipinnoitettujen teräsohutlevyjen ympäristöseloste (Asmo Nieminen\,  SSAB Europe Oy) \n13:20-14:00   Kokonaisedulliset ja ympäristöystävälliset maalausjärjestelmät (Juha Kilpinen\, Tikkurila Oyj) \n14:00-15:00   Vierailu maalauslaboratorioon
URL:https://www.korroosioyhdistys.fi/event/try-seminaari-terasrakenteiden-pinnoitteiden-elinkaari-ja-kiertotalous/
END:VEVENT
END:VCALENDAR