BEGIN:VCALENDAR
VERSION:2.0
PRODID:-//Suomen Korroosioyhdistys - ECPv6.15.12.1//NONSGML v1.0//EN
CALSCALE:GREGORIAN
METHOD:PUBLISH
X-WR-CALNAME:Suomen Korroosioyhdistys
X-ORIGINAL-URL:https://www.korroosioyhdistys.fi
X-WR-CALDESC:Tapahtumat Suomen Korroosioyhdistys
REFRESH-INTERVAL;VALUE=DURATION:PT1H
X-Robots-Tag:noindex
X-PUBLISHED-TTL:PT1H
BEGIN:VTIMEZONE
TZID:UTC
BEGIN:STANDARD
TZOFFSETFROM:+0000
TZOFFSETTO:+0000
TZNAME:UTC
DTSTART:20210101T000000
END:STANDARD
END:VTIMEZONE
BEGIN:VEVENT
DTSTART;VALUE=DATE:20221127
DTEND;VALUE=DATE:20221202
DTSTAMP:20260422T193802
CREATED:20221002T194428Z
LAST-MODIFIED:20221002T194513Z
UID:1116-1669507200-1669939199@www.korroosioyhdistys.fi
SUMMARY:International Symposium on Corrosion for Sustainable Development
DESCRIPTION:
URL:https://www.korroosioyhdistys.fi/event/international-symposium-on-corrosion-for-sustainable-development/
LOCATION:Hilton Phuket Arcadia\, Thailand\, Phuket\, Thaimaa
END:VEVENT
END:VCALENDAR