BEGIN:VCALENDAR
VERSION:2.0
PRODID:-//Suomen Korroosioyhdistys - ECPv6.15.12.1//NONSGML v1.0//EN
CALSCALE:GREGORIAN
METHOD:PUBLISH
X-WR-CALNAME:Suomen Korroosioyhdistys
X-ORIGINAL-URL:https://www.korroosioyhdistys.fi
X-WR-CALDESC:Tapahtumat Suomen Korroosioyhdistys
REFRESH-INTERVAL;VALUE=DURATION:PT1H
X-Robots-Tag:noindex
X-PUBLISHED-TTL:PT1H
BEGIN:VTIMEZONE
TZID:Europe/Helsinki
BEGIN:DAYLIGHT
TZOFFSETFROM:+0200
TZOFFSETTO:+0300
TZNAME:EEST
DTSTART:20230326T010000
END:DAYLIGHT
BEGIN:STANDARD
TZOFFSETFROM:+0300
TZOFFSETTO:+0200
TZNAME:EET
DTSTART:20231029T010000
END:STANDARD
BEGIN:DAYLIGHT
TZOFFSETFROM:+0200
TZOFFSETTO:+0300
TZNAME:EEST
DTSTART:20240331T010000
END:DAYLIGHT
BEGIN:STANDARD
TZOFFSETFROM:+0300
TZOFFSETTO:+0200
TZNAME:EET
DTSTART:20241027T010000
END:STANDARD
BEGIN:DAYLIGHT
TZOFFSETFROM:+0200
TZOFFSETTO:+0300
TZNAME:EEST
DTSTART:20250330T010000
END:DAYLIGHT
BEGIN:STANDARD
TZOFFSETFROM:+0300
TZOFFSETTO:+0200
TZNAME:EET
DTSTART:20251026T010000
END:STANDARD
END:VTIMEZONE
BEGIN:VEVENT
DTSTART;VALUE=DATE:20240912
DTEND;VALUE=DATE:20240913
DTSTAMP:20260419T161139
CREATED:20240528T070540Z
LAST-MODIFIED:20240528T070540Z
UID:1572-1726099200-1726185599@www.korroosioyhdistys.fi
SUMMARY:FIRPA 2024 Annual Seminar & Exhibition
DESCRIPTION:Suomen pikavalmistusyhdistys FIRPA järjestää vuotuisen konferenssinsa yhteistyössä Aalto-yliopiston kanssa Espoon Otaniemessä. \nTapahtuma on englanninkikelinen. SKY:n jäsenet voivat osallistua tapahtumaan jäsenhinnalla. \n  \nLisätietoa / more information: https://www.firpa.fi/firpa2024 \n  \nFinnish Additive Manufacturing Association FIRPA is organizing the annual Conference 12.9 at Otaniemi\, Espoo\, in collaboration with Aalto University. It is engaging the students\, research and industry in the field. \nThe event language is English. SKY members can participate with member price. \nThere will be an exciting presentation by start-ups\, big companies\, and international keynote speakers. We have the privilege of having a pioneer and guru of additive manufacturing\, Ian Gibson\, to have an opening keynote presentation. He has more than 30 years of experience of the AM field.
URL:https://www.korroosioyhdistys.fi/event/firpa-2024-annual-seminar-exhibition/
LOCATION:AS2\, TUAS building\, Maarintie 8\, 02150 Espoo\, Maarintie 8\, Espoo
END:VEVENT
END:VCALENDAR