BEGIN:VCALENDAR
VERSION:2.0
PRODID:-//Suomen Korroosioyhdistys - ECPv6.15.12.1//NONSGML v1.0//EN
CALSCALE:GREGORIAN
METHOD:PUBLISH
X-ORIGINAL-URL:https://www.korroosioyhdistys.fi
X-WR-CALDESC:Tapahtumat Suomen Korroosioyhdistys
REFRESH-INTERVAL;VALUE=DURATION:PT1H
X-Robots-Tag:noindex
X-PUBLISHED-TTL:PT1H
BEGIN:VTIMEZONE
TZID:Europe/Helsinki
BEGIN:DAYLIGHT
TZOFFSETFROM:+0200
TZOFFSETTO:+0300
TZNAME:EEST
DTSTART:20230326T010000
END:DAYLIGHT
BEGIN:STANDARD
TZOFFSETFROM:+0300
TZOFFSETTO:+0200
TZNAME:EET
DTSTART:20231029T010000
END:STANDARD
BEGIN:DAYLIGHT
TZOFFSETFROM:+0200
TZOFFSETTO:+0300
TZNAME:EEST
DTSTART:20240331T010000
END:DAYLIGHT
BEGIN:STANDARD
TZOFFSETFROM:+0300
TZOFFSETTO:+0200
TZNAME:EET
DTSTART:20241027T010000
END:STANDARD
BEGIN:DAYLIGHT
TZOFFSETFROM:+0200
TZOFFSETTO:+0300
TZNAME:EEST
DTSTART:20250330T010000
END:DAYLIGHT
BEGIN:STANDARD
TZOFFSETFROM:+0300
TZOFFSETTO:+0200
TZNAME:EET
DTSTART:20251026T010000
END:STANDARD
END:VTIMEZONE
BEGIN:VEVENT
DTSTART;VALUE=DATE:20240901
DTEND;VALUE=DATE:20240906
DTSTAMP:20260419T161449
CREATED:20230329T113354Z
LAST-MODIFIED:20230329T113354Z
UID:1433-1725148800-1725580799@www.korroosioyhdistys.fi
SUMMARY:EUROCORR 2024 in France\, Paris
DESCRIPTION:Information \nhttps://www.cefracor.org/en/eurocorr-2024
URL:https://www.korroosioyhdistys.fi/event/eurocorr-2024-in-france-paris/
LOCATION:Paris\, Palais des Congrès\, Pariisi\, Ranska
END:VEVENT
END:VCALENDAR