BEGIN:VCALENDAR
VERSION:2.0
PRODID:-//Suomen Korroosioyhdistys - ECPv6.15.12.1//NONSGML v1.0//EN
CALSCALE:GREGORIAN
METHOD:PUBLISH
X-WR-CALNAME:Suomen Korroosioyhdistys
X-ORIGINAL-URL:https://www.korroosioyhdistys.fi
X-WR-CALDESC:Tapahtumat Suomen Korroosioyhdistys
REFRESH-INTERVAL;VALUE=DURATION:PT1H
X-Robots-Tag:noindex
X-PUBLISHED-TTL:PT1H
BEGIN:VTIMEZONE
TZID:Europe/Helsinki
BEGIN:DAYLIGHT
TZOFFSETFROM:+0200
TZOFFSETTO:+0300
TZNAME:EEST
DTSTART:20220327T010000
END:DAYLIGHT
BEGIN:STANDARD
TZOFFSETFROM:+0300
TZOFFSETTO:+0200
TZNAME:EET
DTSTART:20221030T010000
END:STANDARD
BEGIN:DAYLIGHT
TZOFFSETFROM:+0200
TZOFFSETTO:+0300
TZNAME:EEST
DTSTART:20230326T010000
END:DAYLIGHT
BEGIN:STANDARD
TZOFFSETFROM:+0300
TZOFFSETTO:+0200
TZNAME:EET
DTSTART:20231029T010000
END:STANDARD
BEGIN:DAYLIGHT
TZOFFSETFROM:+0200
TZOFFSETTO:+0300
TZNAME:EEST
DTSTART:20240331T010000
END:DAYLIGHT
BEGIN:STANDARD
TZOFFSETFROM:+0300
TZOFFSETTO:+0200
TZNAME:EET
DTSTART:20241027T010000
END:STANDARD
END:VTIMEZONE
BEGIN:VEVENT
DTSTART;TZID=Europe/Helsinki:20230426T150000
DTEND;TZID=Europe/Helsinki:20230426T163000
DTSTAMP:20260422T132042
CREATED:20230329T111413Z
LAST-MODIFIED:20230329T111413Z
UID:1426-1682521200-1682526600@www.korroosioyhdistys.fi
SUMMARY:CorroZoom Webinar: Kevin Ogle: Element-resolved electrochemistry and its application to aqueous corrosion
DESCRIPTION:Fifth CorroZoom Season 3 Webinar – Kevin Ogle \n26 April 2023 at 0800 US Eastern \nTo register (free for all): \nhttps://osu.zoom.us/webinar/register/WN_UdDaQi7MS9q29jUp1YHF-Q \n  \nElement-resolved electrochemistry and its application to aqueous corrosion \n  \nKevin Ogle \nEcole Nationale Supérieure de Chimie de Paris\, PSL University in Paris\, France \n\nAbstract \nAqueous metallic corrosion is an electrochemical phenomenon and much of the theory and experimental techniques for predicting and assessing corrosion are based on the application of electrochemical concepts and techniques. While electrochemical measurements provide rich and meaningful kinetic information on the underlying faradaic processes\, they are often insufficient to identify the chemical mechanisms of these processes\, limiting their utility as predictive tools. Element-resolved electrochemistry\, specifically atomic emission spectroelectrochemistry (AESEC)\, is an emerging technique that provides elemental resolution to conventional electrochemical methods. In this way we can quantitatively probe the “fate” of the elemental constituents of a material in real time during its reaction with an aggressive electrolyte. The kinetics of selective dissolution\, surface enrichment\, and non-faradaic processes such as oxide dissolution or particle detachment – not apparent in conventional electrochemical methods – may be directly measured with quantitative time resolution difficult to achieve by ex situ analysis. In this presentation we will review the methodology of AESEC and its application to a variety of aqueous corrosion phenomena including the passivation of multi-principal element alloys\, anomalous hydrogen production on magnesium\, and the pickling of aluminum alloys. \n  \nBiography \nKevin Ogle is a professor at the Ecole Nationale Supérieure de Chimie de Paris\, PSL University in Paris\, France and a research affiliation with the Institut de Recherche de Chimie-Paris\, CNRS. He earned the PhD in Chemistry from the University of Texas at Austin\, his dissertation work on the kinetics of heterogenous catalysis by single crystal surfaces using operando surface analytical techniques. After several years at Lawrence Berkeley Laboratory and a brief period as professor at a liberal arts college\, he entered the R&D of the European steel industry (today ArcelorMittal) in the area of corrosion and surface treatment. There he pursued fundamental research on the use of local electrochemical techniques and the development of atomic emission spectroelectrochemistry (AESEC). He joined the faculty of the ENSCP in 2005 and continues research with element resolved electrochemistry in several areas of aqueous corrosion and surface treatment processes.
URL:https://www.korroosioyhdistys.fi/event/corrozoom-webinar-kevin-ogle-element-resolved-electrochemistry-and-its-application-to-aqueous-corrosion/
END:VEVENT
END:VCALENDAR