BEGIN:VCALENDAR
VERSION:2.0
PRODID:-//Suomen Korroosioyhdistys - ECPv6.15.12.1//NONSGML v1.0//EN
CALSCALE:GREGORIAN
METHOD:PUBLISH
X-ORIGINAL-URL:https://www.korroosioyhdistys.fi
X-WR-CALDESC:Tapahtumat Suomen Korroosioyhdistys
REFRESH-INTERVAL;VALUE=DURATION:PT1H
X-Robots-Tag:noindex
X-PUBLISHED-TTL:PT1H
BEGIN:VTIMEZONE
TZID:Europe/Helsinki
BEGIN:DAYLIGHT
TZOFFSETFROM:+0200
TZOFFSETTO:+0300
TZNAME:EEST
DTSTART:20220327T010000
END:DAYLIGHT
BEGIN:STANDARD
TZOFFSETFROM:+0300
TZOFFSETTO:+0200
TZNAME:EET
DTSTART:20221030T010000
END:STANDARD
BEGIN:DAYLIGHT
TZOFFSETFROM:+0200
TZOFFSETTO:+0300
TZNAME:EEST
DTSTART:20230326T010000
END:DAYLIGHT
BEGIN:STANDARD
TZOFFSETFROM:+0300
TZOFFSETTO:+0200
TZNAME:EET
DTSTART:20231029T010000
END:STANDARD
BEGIN:DAYLIGHT
TZOFFSETFROM:+0200
TZOFFSETTO:+0300
TZNAME:EEST
DTSTART:20240331T010000
END:DAYLIGHT
BEGIN:STANDARD
TZOFFSETFROM:+0300
TZOFFSETTO:+0200
TZNAME:EET
DTSTART:20241027T010000
END:STANDARD
END:VTIMEZONE
BEGIN:VEVENT
DTSTART;TZID=Europe/Helsinki:20230327T150000
DTEND;TZID=Europe/Helsinki:20230327T163000
DTSTAMP:20260422T132439
CREATED:20230314T105532Z
LAST-MODIFIED:20230314T105532Z
UID:1407-1679929200-1679934600@www.korroosioyhdistys.fi
SUMMARY:CorroZoom Season 3 Webinar - Chaofang Dong
DESCRIPTION:Fourth CorroZoom Season 3 Webinar – Chaofang Dong\n27 March 2023 at 0800 US Eastern\nTo register (free for all):\nhttps://osu.zoom.us/webinar/register/WN_lead_HwPTJ-iVT5ooTrfSw \nIntegrated Multiscale Modeling and Prediction of Corrosion\nChaofang Dong\nUniversity of Science and Technology Beijing\, China \nAbstract \nIn the last decade\, corrosion modeling has made progress towards the atomic-scale clarification of corrosion mechanisms and the computer-aided designing of advanced materials with good corrosion resistance. This talk focuses on the theoretical methods of integrated calculations and the developments in applications to the study of corrosion. Three specific applications will be presented: first-principles techniques combined with molecular dynamics\, peridynamic theory\, and the finite element method provide multiscale models to investigate the micro-mechanisms of stress corrosion cracking and hydrogen-induced cracking. The modeling of passivity and passive film breakdown will be discussed elaborately through the transport of point defects and its correlation with the energy level degeneracy. Because corrosion jeopardizes materials longevity and engineering safety\, the corrosion rate needs to be predicted to better guide materials selection. Although field exposure experiments are dependable\, their prohibitive cost and time-consuming nature make it difficult to obtain a large dataset for machine learning. Here\, we propose a strategy called Integrating Ab-initio Calculations with Random Forest to optimize the model\, thereby estimating the corrosion rate of Al alloys in diverse environments. For better and efficient development of integrated computation of corrosion\, extensive cooperation and powerful data infrastructure are needed by stronger joint efforts in the future. \nBiography \nChaofang Dong is professor in the National Materials Corrosion and Protection Data Center and Beijing Advanced Innovation Center for Materials Genome Engineering at the University of Science and Technology Beijing (USTB). She has been in Corrosion and Protection Center of USTB for 29 years since her undergraduate studies. She spent one year at UC Berkeley in the US. Her research interests are focused on the study of passivation\, pitting and atmospheric corrosion\, including multiscale simulation\, computation\, and micro-mechanism analysis of corrosion. She has been involved in the development of a data-driven rational design strategy\, and engineering a robust pathway from simulation analysis\, experimental validation to engineering demonstration for the development of corrosion-resistant metals.
URL:https://www.korroosioyhdistys.fi/event/corrozoom-season-3-webinar-chaofang-dong/
END:VEVENT
END:VCALENDAR