BEGIN:VCALENDAR
VERSION:2.0
PRODID:-//Suomen Korroosioyhdistys - ECPv6.15.12.1//NONSGML v1.0//EN
CALSCALE:GREGORIAN
METHOD:PUBLISH
X-WR-CALNAME:Suomen Korroosioyhdistys
X-ORIGINAL-URL:https://www.korroosioyhdistys.fi
X-WR-CALDESC:Tapahtumat Suomen Korroosioyhdistys
REFRESH-INTERVAL;VALUE=DURATION:PT1H
X-Robots-Tag:noindex
X-PUBLISHED-TTL:PT1H
BEGIN:VTIMEZONE
TZID:Europe/Helsinki
BEGIN:DAYLIGHT
TZOFFSETFROM:+0200
TZOFFSETTO:+0300
TZNAME:EEST
DTSTART:20220327T010000
END:DAYLIGHT
BEGIN:STANDARD
TZOFFSETFROM:+0300
TZOFFSETTO:+0200
TZNAME:EET
DTSTART:20221030T010000
END:STANDARD
BEGIN:DAYLIGHT
TZOFFSETFROM:+0200
TZOFFSETTO:+0300
TZNAME:EEST
DTSTART:20230326T010000
END:DAYLIGHT
BEGIN:STANDARD
TZOFFSETFROM:+0300
TZOFFSETTO:+0200
TZNAME:EET
DTSTART:20231029T010000
END:STANDARD
BEGIN:DAYLIGHT
TZOFFSETFROM:+0200
TZOFFSETTO:+0300
TZNAME:EEST
DTSTART:20240331T010000
END:DAYLIGHT
BEGIN:STANDARD
TZOFFSETFROM:+0300
TZOFFSETTO:+0200
TZNAME:EET
DTSTART:20241027T010000
END:STANDARD
END:VTIMEZONE
BEGIN:VEVENT
DTSTART;TZID=Europe/Helsinki:20230315T170000
DTEND;TZID=Europe/Helsinki:20230315T190000
DTSTAMP:20260422T145237
CREATED:20230119T142633Z
LAST-MODIFIED:20230119T142633Z
UID:1380-1678899600-1678906800@www.korroosioyhdistys.fi
SUMMARY:SKY Vuosikokous
DESCRIPTION:Suomen korroosioyhdistys SKY – Finlands korrosionsförening r.y.:n sääntömääräinen vuosikokous pidetään klo 18 Espoossa. Kokouksessa käsitellään sääntömääräiset asiat\, jotka mainitaan jäsenille lähetettävässä kokouskutsussa. Kokoukseen voi osallistua myös etänä\, ja linkki lähetetään jäsenille kokouskutsun yhteydessä.\nEnnen vuosikokousta on vuosikokousesitelmä.\n 
URL:https://www.korroosioyhdistys.fi/event/sky-vuosikokous/
END:VEVENT
END:VCALENDAR