BEGIN:VCALENDAR
VERSION:2.0
PRODID:-//Suomen Korroosioyhdistys - ECPv6.15.12.1//NONSGML v1.0//EN
CALSCALE:GREGORIAN
METHOD:PUBLISH
X-WR-CALNAME:Suomen Korroosioyhdistys
X-ORIGINAL-URL:https://www.korroosioyhdistys.fi
X-WR-CALDESC:Tapahtumat Suomen Korroosioyhdistys
REFRESH-INTERVAL;VALUE=DURATION:PT1H
X-Robots-Tag:noindex
X-PUBLISHED-TTL:PT1H
BEGIN:VTIMEZONE
TZID:Europe/Helsinki
BEGIN:DAYLIGHT
TZOFFSETFROM:+0200
TZOFFSETTO:+0300
TZNAME:EEST
DTSTART:20220327T010000
END:DAYLIGHT
BEGIN:STANDARD
TZOFFSETFROM:+0300
TZOFFSETTO:+0200
TZNAME:EET
DTSTART:20221030T010000
END:STANDARD
BEGIN:DAYLIGHT
TZOFFSETFROM:+0200
TZOFFSETTO:+0300
TZNAME:EEST
DTSTART:20230326T010000
END:DAYLIGHT
BEGIN:STANDARD
TZOFFSETFROM:+0300
TZOFFSETTO:+0200
TZNAME:EET
DTSTART:20231029T010000
END:STANDARD
BEGIN:DAYLIGHT
TZOFFSETFROM:+0200
TZOFFSETTO:+0300
TZNAME:EEST
DTSTART:20240331T010000
END:DAYLIGHT
BEGIN:STANDARD
TZOFFSETFROM:+0300
TZOFFSETTO:+0200
TZNAME:EET
DTSTART:20241027T010000
END:STANDARD
END:VTIMEZONE
BEGIN:VEVENT
DTSTART;TZID=Europe/Helsinki:20230123T150000
DTEND;TZID=Europe/Helsinki:20230123T170000
DTSTAMP:20260422T180124
CREATED:20230119T141548Z
LAST-MODIFIED:20230119T141548Z
UID:1373-1674486000-1674493200@www.korroosioyhdistys.fi
SUMMARY:CorroZoom: V.S. Raja: Development of High Strength and Environmentally Assisted Cracking Resistant Aluminum Alloys: Metallurgical and Electrochemical Aspects
DESCRIPTION:To register (free for all): https://osu.zoom.us/webinar/register/WN_yGYURWbcQX2i1LNp_lGeKQ \nDevelopment of High Strength and Environmentally Assisted Cracking Resistant Aluminum Alloys: Metallurgical and Electrochemical Aspects \nV.S. Raja \nIndian Institute of Technology Bombay \n\nAbstract \nApplication of high strength aluminum alloys for structural applications is stifled as they tend to be more susceptible to environmentally assisted cracking (EAC)\, with increasing strength. In order to develop alloys having both high strength and resistance to EAC\, there is a need to understand the interplay of alloy-stress-environment interactions. Unlike stainless steels\, aluminum alloys possess a range of phases\, whose electrochemical behavior and interactions with dislocations influence the EAC resistance of these alloys. This talk will bring out the salient features of our work towards understanding the role of metallurgical and electrochemical aspects in developing aluminum alloys of high strength and EAC resistance. \n\nBiography \nProf. VS. Raja is currently Institute Chair Professor in the Department of Metallurgical Engineering and Materials Science\, at Indian Institute of Technology Bombay\, India. His research interests span of structure-property-corrosion topics mostly focused on localized corrosion\, environmentally assisted cracking of light metals\, weld related corrosion\, development of novel coating and advanced ultra-critical steam oxidation. He has supervised a large number of doctoral and masters students. He is the lead editor of the book Stress Corrosion Cracking: Theory and Practice and co-authored a book Corrosion Failures: Basics\, Case Studies and Solutions. In recognition\, he received several national and international awards for teaching and research. He is fellow of NACE International\, USA (2011)\, Indian Institute of Metals (2014) and The Electrochemical Society of India (2017).
URL:https://www.korroosioyhdistys.fi/event/corrozoom-v-s-raja-development-of-high-strength-and-environmentally-assisted-cracking-resistant-aluminum-alloys-metallurgical-and-electrochemical-aspects/
LOCATION:Zoom
END:VEVENT
END:VCALENDAR